BEGIN:VCALENDAR
VERSION:2.0
PRODID:-//eventon.com NONSGML v1.0//EN
BEGIN:VEVENT
UID:69ec98ae247e1
DTSTAMP:20260425T123422
DTSTART:20261118T220000Z
DTEND:20261119T215900Z
LOCATION:Golf de Tréméreuc 14 Rue de Dinan\,  22490 Tréméreuc
SUMMARY:Sortie AS - "Beaujolais nouveau" - Trémereuc
DESCRIPTION: Sortie AS - "Beaujolais nouveau" - Trémereuc
END:VEVENT
END:VCALENDAR