BEGIN:VCALENDAR
VERSION:2.0
PRODID:-//eventon.com NONSGML v1.0//EN
BEGIN:VEVENT
UID:69ec984050597
DTSTAMP:20260425T123232
DTSTART:20260928T220000Z
DTEND:20260929T215900Z
LOCATION:Golf de Cesson Sevigné 43 Boulevard de Dézerseul-Ile de Tizé\,  35510 Cesson-Sévigné
SUMMARY:Seniors - Challenge 35 - Cesson reçoit Rennes et les Ormes
DESCRIPTION: Seniors - Challenge 35 - Cesson reçoit Rennes et les Ormes
END:VEVENT
END:VCALENDAR