BEGIN:VCALENDAR
VERSION:2.0
PRODID:-//eventon.com NONSGML v1.0//EN
BEGIN:VEVENT
UID:69ec9869ef38f
DTSTAMP:20260425T123313
DTSTART:20260918T220000Z
DTEND:20260919T215900Z
LOCATION:Golf de Cesson Sevigné 43 Boulevard de Dézerseul-Ile de Tizé\,  35510 Cesson-Sévigné
SUMMARY:Animation - Démonstration matériel Ping
DESCRIPTION: Animation - Démonstration matériel Ping
END:VEVENT
END:VCALENDAR