BEGIN:VCALENDAR
VERSION:2.0
PRODID:-//eventon.com NONSGML v1.0//EN
BEGIN:VEVENT
UID:69ec985abf075
DTSTAMP:20260425T123258
DTSTART:20261009T220000Z
DTEND:20261010T215900Z
LOCATION:Golf de Dinard 53 Boulevard de la Houle\,  35800 Saint-Briac-sur-Mer
SUMMARY:CD 35 - Greensome mixte - Dinard
DESCRIPTION: CD 35 - Greensome mixte - Dinard
END:VEVENT
END:VCALENDAR