BEGIN:VCALENDAR
VERSION:2.0
PRODID:-//eventon.com NONSGML v1.0//EN
BEGIN:VEVENT
UID:69ec983e8fe80
DTSTAMP:20260425T123230
DTSTART:20261012T220000Z
DTEND:20261013T215900Z
LOCATION:Golf des Ormes Domaine des Ormes\,  35120 Dol-de-Bretagne
SUMMARY:CD 35 - Challenge Femina 4 - Finale - Les Ormes
DESCRIPTION: CD 35 - Challenge Femina 4 - Finale - Les Ormes
END:VEVENT
END:VCALENDAR