BEGIN:VCALENDAR
VERSION:2.0
PRODID:-//eventon.com NONSGML v1.0//EN
BEGIN:VEVENT
UID:69ec988e4992b
DTSTAMP:20260425T123350
DTSTART:20260916T220000Z
DTEND:20260917T215900Z
LOCATION:Golf de Dinard 53 Boulevard de la Houle\,  35800 Saint-Briac-sur-Mer
SUMMARY:CD 35 - Challenge Femina 3 - Dinard
DESCRIPTION: CD 35 - Challenge Femina 3 - Dinard
END:VEVENT
END:VCALENDAR