BEGIN:VCALENDAR
VERSION:2.0
PRODID:-//eventon.com NONSGML v1.0//EN
BEGIN:VEVENT
UID:69ec983fcc0bb
DTSTAMP:20260425T123231
DTSTART:20261014T220000Z
DTEND:20261015T215900Z
LOCATION:Golf de Savenay 
SUMMARY:CAEF 2026 - Challenge Bretagne - Pays de Loire - J2 - Savenay
DESCRIPTION: CAEF 2026 - Challenge Bretagne - Pays de Loire - J2 - Savenay
END:VEVENT
END:VCALENDAR