BEGIN:VCALENDAR
VERSION:2.0
PRODID:-//eventon.com NONSGML v1.0//EN
BEGIN:VEVENT
UID:69ec983ebba53
DTSTAMP:20260425T123230
DTSTART:20261013T220000Z
DTEND:20261014T215900Z
LOCATION:Golf de Savenay 
SUMMARY:CAEF 2026 - Challenge Bretagne - Pays de Loire - J1 - Savenay
DESCRIPTION: CAEF 2026 - Challenge Bretagne - Pays de Loire - J1 - Savenay
END:VEVENT
END:VCALENDAR