BEGIN:VCALENDAR
VERSION:2.0
PRODID:-//eventon.com NONSGML v1.0//EN
BEGIN:VEVENT
UID:69ec988e3c822
DTSTAMP:20260425T123350
DTSTART:20260929T220000Z
DTEND:20260930T215900Z
LOCATION:Golf de Fréhel 
SUMMARY:CAEF 2026 - 6 - J1 - Fréhel
DESCRIPTION: CAEF 2026 - 6 - J1 - Fréhel
END:VEVENT
END:VCALENDAR