BEGIN:VCALENDAR
VERSION:2.0
PRODID:-//eventon.com NONSGML v1.0//EN
BEGIN:VEVENT
UID:69ec9868c77e1
DTSTAMP:20260425T123312
DTSTART:20260930T220000Z
DTEND:20261001T215900Z
LOCATION:Golf de Fréhel 
SUMMARY:CAEF 2026 - 6 - J2 - Fréhel
DESCRIPTION: CAEF 2026 - 6 - J2 - Fréhel
END:VEVENT
END:VCALENDAR