BEGIN:VCALENDAR
VERSION:2.0
PRODID:-//eventon.com NONSGML v1.0//EN
BEGIN:VEVENT
UID:69ec98180d2cc
DTSTAMP:20260425T123152
DTSTART:20260901T220000Z
DTEND:20260902T215900Z
LOCATION:Golf de Rhuys Kerver 
SUMMARY:CAEF 2026 - 5 - J1 - Rhuys Kerver
DESCRIPTION: CAEF 2026 - 5 - J1 - Rhuys Kerver
END:VEVENT
END:VCALENDAR