BEGIN:VCALENDAR
VERSION:2.0
PRODID:-//eventon.com NONSGML v1.0//EN
BEGIN:VEVENT
UID:69ec98a7783e9
DTSTAMP:20260425T123415
DTSTART:20260925T220000Z
DTEND:20260926T215900Z
LOCATION:Golf de Kerbernez 
SUMMARY:Equipe Dames - Championnat de Bretagne féminin des golfs 9 trous - Kerbernez
DESCRIPTION: Equipe Dames - Championnat de Bretagne féminin des golfs 9 trous - Kerbernez
END:VEVENT
END:VCALENDAR