BEGIN:VCALENDAR
VERSION:2.0
PRODID:-//eventon.com NONSGML v1.0//EN
BEGIN:VEVENT
UID:69ec985985161
DTSTAMP:20260425T123257
DTSTART:20260911T220000Z
DTEND:20260912T215900Z
LOCATION:Golf des Ormes Domaine des Ormes\,  35120 Dol-de-Bretagne
SUMMARY:Equipe Dames - Nathalie Foussier - J1 - Les Ormes
DESCRIPTION: Equipe Dames - Nathalie Foussier - J1 - Les Ormes
END:VEVENT
END:VCALENDAR