BEGIN:VCALENDAR
VERSION:2.0
PRODID:-//eventon.com NONSGML v1.0//EN
BEGIN:VEVENT
UID:69ec988f74b74
DTSTAMP:20260425T123351
DTSTART:20260905T220000Z
DTEND:20260906T215900Z
LOCATION:Golf de Cap Malo 
SUMMARY:Championnat Bretagne Golfs 9 trous - J2 - Cap Malo
DESCRIPTION: Championnat Bretagne Golfs 9 trous - J2 - Cap Malo
END:VEVENT
END:VCALENDAR