BEGIN:VCALENDAR
VERSION:2.0
PRODID:-//eventon.com NONSGML v1.0//EN
BEGIN:VEVENT
UID:69ec9868cc08f
DTSTAMP:20260425T123312
DTSTART:20260904T220000Z
DTEND:20260905T215900Z
LOCATION:Golf de Cap Malo 
SUMMARY:Championnat Bretagne Golfs 9 trous - J1 - Cap Malo
DESCRIPTION: Championnat Bretagne Golfs 9 trous - J1 - Cap Malo
END:VEVENT
END:VCALENDAR