BEGIN:VCALENDAR
VERSION:2.0
PRODID:-//eventon.com NONSGML v1.0//EN
BEGIN:VEVENT
UID:69ec98a763eed
DTSTAMP:20260425T123415
DTSTART:20260921T220000Z
DTEND:20260922T215900Z
LOCATION:Golf de Caden 
SUMMARY:Seniors - Challenge Bretagne golfs 9 trous - Retour - J1 - Caden
DESCRIPTION: Seniors - Challenge Bretagne golfs 9 trous - Retour - J1 - Caden
END:VEVENT
END:VCALENDAR