BEGIN:VCALENDAR
VERSION:2.0
PRODID:-//eventon.com NONSGML v1.0//EN
BEGIN:VEVENT
UID:69ec9a0fdf257
DTSTAMP:20260425T124015
DTSTART:20261120T220000Z
DTEND:20261121T215900Z
LOCATION:Golf de Cesson Sevigné 43 Boulevard de Dézerseul-Ile de Tizé\,  35510 Cesson-Sévigné
SUMMARY:Compétition AS WE & Cross de Noel & & La Fée Cabosse & Visual & GCA Jeep
DESCRIPTION: Compétition AS WE & Cross de Noel & & La Fée Cabosse & Visual & GCA Jeep
END:VEVENT
END:VCALENDAR