BEGIN:VCALENDAR
VERSION:2.0
PRODID:-//eventon.com NONSGML v1.0//EN
BEGIN:VEVENT
UID:69ecb09be2f12
DTSTAMP:20260425T141627
DTSTART:20261106T220000Z
DTEND:20261107T215900Z
LOCATION:Golf de Cesson Sevigné 43 Boulevard de Dézerseul-Ile de Tizé\,  35510 Cesson-Sévigné
SUMMARY:Compétition AS WE & GCA Toyota & 3ème K
DESCRIPTION: Compétition AS WE & GCA Toyota & 3ème K
END:VEVENT
END:VCALENDAR