BEGIN:VCALENDAR
VERSION:2.0
PRODID:-//eventon.com NONSGML v1.0//EN
BEGIN:VEVENT
UID:69ec9a0eb55ef
DTSTAMP:20260425T124014
DTSTART:20261016T220000Z
DTEND:20261017T215900Z
LOCATION:Golf de Cesson Sevigné 43 Boulevard de Dézerseul-Ile de Tizé\,  35510 Cesson-Sévigné
SUMMARY:Compétition AS WE & La Hublais & Menco
DESCRIPTION: Compétition AS WE & La Hublais & Menco
END:VEVENT
END:VCALENDAR