BEGIN:VCALENDAR
VERSION:2.0
PRODID:-//eventon.com NONSGML v1.0//EN
BEGIN:VEVENT
UID:69ec9a0e9fb45
DTSTAMP:20260425T124014
DTSTART:20261002T220000Z
DTEND:20261003T215900Z
LOCATION:Golf de Cesson Sevigné 43 Boulevard de Dézerseul-Ile de Tizé\,  35510 Cesson-Sévigné
SUMMARY:Compétition AS WE & CPCS & GCA Hyundai
DESCRIPTION: Compétition AS WE & CPCS & GCA Hyundai
END:VEVENT
END:VCALENDAR