BEGIN:VCALENDAR
VERSION:2.0
PRODID:-//eventon.com NONSGML v1.0//EN
BEGIN:VEVENT
UID:69ec9a08c0972
DTSTAMP:20260425T124008
DTSTART:20260911T220000Z
DTEND:20260912T215900Z
LOCATION:Golf de Cesson Sevigné 43 Boulevard de Dézerseul-Ile de Tizé\,  35510 Cesson-Sévigné
SUMMARY:Compétition AS WE & Crédit Agricole & GCA Kia
DESCRIPTION: Compétition AS WE & Crédit Agricole & GCA Kia
END:VEVENT
END:VCALENDAR