BEGIN:VCALENDAR
VERSION:2.0
PRODID:-//eventon.com NONSGML v1.0//EN
BEGIN:VEVENT
UID:69ec9a152a75b
DTSTAMP:20260425T124021
DTSTART:20260828T220000Z
DTEND:20260829T215900Z
LOCATION:Golf de Cesson Sevigné 43 Boulevard de Dézerseul-Ile de Tizé\,  35510 Cesson-Sévigné
SUMMARY:Compétition AS WE & Garel
DESCRIPTION: Compétition AS WE & Garel
END:VEVENT
END:VCALENDAR