BEGIN:VCALENDAR
VERSION:2.0
PRODID:-//eventon.com NONSGML v1.0//EN
BEGIN:VEVENT
UID:69ec9a0a512db
DTSTAMP:20260425T124010
DTSTART:20260703T220000Z
DTEND:20260704T215900Z
LOCATION:Golf de Cesson Sevigné 43 Boulevard de Dézerseul-Ile de Tizé\,  35510 Cesson-Sévigné
SUMMARY:Compétition AS WE & Fusio & Cavarmen & Douch'auto
DESCRIPTION: Compétition AS WE & Fusio & Cavarmen & Douch'auto
END:VEVENT
END:VCALENDAR