BEGIN:VCALENDAR
VERSION:2.0
PRODID:-//eventon.com NONSGML v1.0//EN
BEGIN:VEVENT
UID:69eaf04c79063
DTSTAMP:20260424T062340
DTSTART:20260627T220000Z
DTEND:20260628T215900Z
LOCATION:Golf de Cesson Sevigné 43 Boulevard de Dézerseul-Ile de Tizé\,  35510 Cesson-Sévigné
SUMMARY:Compétition AS WE & Eurogolf La route du golf
DESCRIPTION: Compétition AS WE & Eurogolf La route du golf
END:VEVENT
END:VCALENDAR