BEGIN:VCALENDAR
VERSION:2.0
PRODID:-//eventon.com NONSGML v1.0//EN
BEGIN:VEVENT
UID:69eaf1d556877
DTSTAMP:20260424T063013
DTSTART:20260606T220000Z
DTEND:20260607T215900Z
LOCATION:Golf de Cesson Sevigné 43 Boulevard de Dézerseul-Ile de Tizé\,  35510 Cesson-Sévigné
SUMMARY:Compétition AS WE & Caritative & Rotary & Celty Crep & Blot
DESCRIPTION: Compétition AS WE & Caritative & Rotary & Celty Crep & Blot
END:VEVENT
END:VCALENDAR