BEGIN:VCALENDAR
VERSION:2.0
PRODID:-//eventon.com NONSGML v1.0//EN
BEGIN:VEVENT
UID:69eaf119c6b76
DTSTAMP:20260424T062705
DTSTART:20260529T220000Z
DTEND:20260530T215900Z
LOCATION:Golf de Cesson Sevigné 43 Boulevard de Dézerseul-Ile de Tizé\,  35510 Cesson-Sévigné
SUMMARY:Compétition AS WE & La Française Immobilière
DESCRIPTION: Compétition AS WE & La Française Immobilière
END:VEVENT
END:VCALENDAR