BEGIN:VCALENDAR
VERSION:2.0
PRODID:-//eventon.com NONSGML v1.0//EN
BEGIN:VEVENT
UID:69eaf0c3b587f
DTSTAMP:20260424T062539
DTSTART:20260515T220000Z
DTEND:20260516T215900Z
LOCATION:Golf de Cesson Sevigné 43 Boulevard de Dézerseul-Ile de Tizé\,  35510 Cesson-Sévigné
SUMMARY:Compétition AS WE & U Express
DESCRIPTION: Compétition AS WE & U Express
END:VEVENT
END:VCALENDAR