BEGIN:VCALENDAR
VERSION:2.0
PRODID:-//eventon.com NONSGML v1.0//EN
BEGIN:VEVENT
UID:69eaf1728423b
DTSTAMP:20260424T062834
DTSTART:20260424T220000Z
DTEND:20260425T215900Z
LOCATION:Golf de Cesson Sevigné 43 Boulevard de Dézerseul-Ile de Tizé\,  35510 Cesson-Sévigné
SUMMARY:Compétition AS WE & Aumont & Dolédec & GCA Lexus
DESCRIPTION: Compétition AS WE & Aumont & Dolédec & GCA Lexus
END:VEVENT
END:VCALENDAR