BEGIN:VCALENDAR
VERSION:2.0
PRODID:-//eventon.com NONSGML v1.0//EN
BEGIN:VEVENT
UID:69ec99c0a95c3
DTSTAMP:20260425T123856
DTSTART:20261111T220000Z
DTEND:20261112T215900Z
LOCATION:Golf de Cesson Sevigné 43 Boulevard de Dézerseul-Ile de Tizé\,  35510 Cesson-Sévigné
SUMMARY:Compétition AS Jeudi & Restaurant Le Cosy
DESCRIPTION: Compétition AS Jeudi & Restaurant Le Cosy
END:VEVENT
END:VCALENDAR