BEGIN:VCALENDAR
VERSION:2.0
PRODID:-//eventon.com NONSGML v1.0//EN
BEGIN:VEVENT
UID:69ec99cc3995e
DTSTAMP:20260425T123908
DTSTART:20261021T220000Z
DTEND:20261022T215900Z
LOCATION:Golf de Cesson Sevigné 43 Boulevard de Dézerseul-Ile de Tizé\,  35510 Cesson-Sévigné
SUMMARY:Compétition AS Jeudi & Handi Golf & Moulin Eyquem
DESCRIPTION: Compétition AS Jeudi & Handi Golf & Moulin Eyquem
END:VEVENT
END:VCALENDAR