BEGIN:VCALENDAR
VERSION:2.0
PRODID:-//eventon.com NONSGML v1.0//EN
BEGIN:VEVENT
UID:69ec99c56c8e7
DTSTAMP:20260425T123901
DTSTART:20261007T220000Z
DTEND:20261008T215900Z
LOCATION:Golf de Cesson Sevigné 43 Boulevard de Dézerseul-Ile de Tizé\,  35510 Cesson-Sévigné
SUMMARY:Compétition AS Jeudi & Up courtage
DESCRIPTION: Compétition AS Jeudi & Up courtage
END:VEVENT
END:VCALENDAR