BEGIN:VCALENDAR
VERSION:2.0
PRODID:-//eventon.com NONSGML v1.0//EN
BEGIN:VEVENT
UID:69ec99c20bc69
DTSTAMP:20260425T123858
DTSTART:20260902T220000Z
DTEND:20260903T215900Z
LOCATION:Golf de Cesson Sevigné 43 Boulevard de Dézerseul-Ile de Tizé\,  35510 Cesson-Sévigné
SUMMARY:Compétition AS Jeudi & ETF coaching
DESCRIPTION: Compétition AS Jeudi & ETF coaching
END:VEVENT
END:VCALENDAR