BEGIN:VCALENDAR
VERSION:2.0
PRODID:-//eventon.com NONSGML v1.0//EN
BEGIN:VEVENT
UID:69ec997b91d72
DTSTAMP:20260425T123747
DTSTART:20260819T220000Z
DTEND:20260820T215900Z
LOCATION:Golf de Cesson Sevigné 43 Boulevard de Dézerseul-Ile de Tizé\,  35510 Cesson-Sévigné
SUMMARY:Compétition AS Jeudi & Identic
DESCRIPTION: Compétition AS Jeudi & Identic
END:VEVENT
END:VCALENDAR