BEGIN:VCALENDAR
VERSION:2.0
PRODID:-//eventon.com NONSGML v1.0//EN
BEGIN:VEVENT
UID:69ec99cd723ea
DTSTAMP:20260425T123909
DTSTART:20260708T220000Z
DTEND:20260709T215900Z
LOCATION:Golf de Cesson Sevigné 43 Boulevard de Dézerseul-Ile de Tizé\,  35510 Cesson-Sévigné
SUMMARY:Compétition AS Jeudi & GCA Toyota
DESCRIPTION: Compétition AS Jeudi & GCA Toyota
END:VEVENT
END:VCALENDAR