BEGIN:VCALENDAR
VERSION:2.0
PRODID:-//eventon.com NONSGML v1.0//EN
BEGIN:VEVENT
UID:69eaf1abbcb55
DTSTAMP:20260424T062931
DTSTART:20260617T220000Z
DTEND:20260618T215900Z
LOCATION:Golf de Cesson Sevigné 43 Boulevard de Dézerseul-Ile de Tizé\,  35510 Cesson-Sévigné
SUMMARY:Compétition AS Jeudi & Les délices d'Alexis
DESCRIPTION: Compétition AS Jeudi & Les délices d'Alexis
END:VEVENT
END:VCALENDAR