BEGIN:VCALENDAR
VERSION:2.0
PRODID:-//eventon.com NONSGML v1.0//EN
BEGIN:VEVENT
UID:69eaf153b855b
DTSTAMP:20260424T062803
DTSTART:20260610T220000Z
DTEND:20260611T215900Z
LOCATION:Golf de Cesson Sevigné 43 Boulevard de Dézerseul-Ile de Tizé\,  35510 Cesson-Sévigné
SUMMARY:Compétition AS Jeudi & GCA Fiat
DESCRIPTION: Compétition AS Jeudi & GCA Fiat
END:VEVENT
END:VCALENDAR