BEGIN:VCALENDAR
VERSION:2.0
PRODID:-//eventon.com NONSGML v1.0//EN
BEGIN:VEVENT
UID:69eaf04c1d2de
DTSTAMP:20260424T062340
DTSTART:20260506T220000Z
DTEND:20260507T215900Z
LOCATION:Golf de Cesson Sevigné 43 Boulevard de Dézerseul-Ile de Tizé\,  35510 Cesson-Sévigné
SUMMARY:Compétition AS Jeudi & Crédit Mutuel de Bretagne
DESCRIPTION: Compétition AS Jeudi & Crédit Mutuel de Bretagne
END:VEVENT
END:VCALENDAR