BEGIN:VCALENDAR
VERSION:2.0
PRODID:-//eventon.com NONSGML v1.0//EN
BEGIN:VEVENT
UID:69eaf178351dc
DTSTAMP:20260424T062840
DTSTART:20260429T220000Z
DTEND:20260430T215900Z
LOCATION:Golf de Cesson Sevigné 43 Boulevard de Dézerseul-Ile de Tizé\,  35510 Cesson-Sévigné
SUMMARY:Compétition AS Jeudi & Pizzeria La Ponte Vecchio & Philippe Poncet (PGA)
DESCRIPTION: Compétition AS Jeudi & Pizzeria La Ponte Vecchio & Philippe Poncet (PGA)
END:VEVENT
END:VCALENDAR